BEGIN:VCALENDAR
VERSION:2.0
PRODID:-//Skippack Historical Society - ECPv6.15.17//NONSGML v1.0//EN
CALSCALE:GREGORIAN
METHOD:PUBLISH
X-WR-CALNAME:Skippack Historical Society
X-ORIGINAL-URL:https://www.skippack.org
X-WR-CALDESC:Events for Skippack Historical Society
REFRESH-INTERVAL;VALUE=DURATION:PT1H
X-Robots-Tag:noindex
X-PUBLISHED-TTL:PT1H
BEGIN:VTIMEZONE
TZID:America/New_York
BEGIN:DAYLIGHT
TZOFFSETFROM:-0500
TZOFFSETTO:-0400
TZNAME:EDT
DTSTART:20250309T070000
END:DAYLIGHT
BEGIN:STANDARD
TZOFFSETFROM:-0400
TZOFFSETTO:-0500
TZNAME:EST
DTSTART:20251102T060000
END:STANDARD
BEGIN:DAYLIGHT
TZOFFSETFROM:-0500
TZOFFSETTO:-0400
TZNAME:EDT
DTSTART:20260308T070000
END:DAYLIGHT
BEGIN:STANDARD
TZOFFSETFROM:-0400
TZOFFSETTO:-0500
TZNAME:EST
DTSTART:20261101T060000
END:STANDARD
BEGIN:DAYLIGHT
TZOFFSETFROM:-0500
TZOFFSETTO:-0400
TZNAME:EDT
DTSTART:20270314T070000
END:DAYLIGHT
BEGIN:STANDARD
TZOFFSETFROM:-0400
TZOFFSETTO:-0500
TZNAME:EST
DTSTART:20271107T060000
END:STANDARD
END:VTIMEZONE
BEGIN:VEVENT
DTSTART;TZID=America/New_York:20260913T100000
DTEND;TZID=America/New_York:20260913T170000
DTSTAMP:20260425T073605
CREATED:20251228T234659Z
LAST-MODIFIED:20251228T234703Z
UID:8938-1789293600-1789318800@www.skippack.org
SUMMARY:Skippack Township's Community Day
DESCRIPTION:Join us for Skippack Township’s Community Day\, a fun-filled celebration of neighbors\, local organizations\, and community pride. \nVisit the Skippack Historical Society booth to learn about Skippack’s rich history\, upcoming events\, and ways to get involved. Throughout the day\, enjoy community booths\, local vendors\, and live entertainment\, all taking place at the 4-H Building. \nCommunity Day is a great opportunity to connect\, explore\, and celebrate everything that makes Skippack special. Bring your family\, invite your friends\, and stop by to enjoy the day—we look forward to seeing you there! \nVolunteer: https://www.signupgenius.com/go/10C094BAFAA22ABF9C43-61386690-skippack \nhttps://www.skippacktownship.org/
URL:https://www.skippack.org/event/skippack-townships-community-day/
CATEGORIES:Community Events
ATTACH;FMTTYPE=image/jpeg:https://www.skippack.org/wp-content/uploads/2025/12/485905064_1089579003212461_1962394309879446420_n.jpg
END:VEVENT
BEGIN:VEVENT
DTSTART;TZID=America/New_York:20260926T100000
DTEND;TZID=America/New_York:20260926T170000
DTSTAMP:20260425T073605
CREATED:20251228T160052Z
LAST-MODIFIED:20251228T223856Z
UID:8800-1790416800-1790442000@www.skippack.org
SUMMARY:Annual Washington's Encampment at Skippack
DESCRIPTION:Join the Skippack Historical Society for our annual Washington’s Encampment\, a living history event that brings the American Revolution to life. \nWe gather at the historic 1720s Indenhofen Farmstead\, a site that witnessed the Continental Army’s presence during the fall of 1777. Skippack played a vital role as a stepping stone between the Battles of Brandywine and Germantown\, and General George Washington and his troops passed through the area three times—one of which included an encampment along Skippack Creek from September into October 1777. \nWhat to experience during the day:\n• Living history demonstrations\n• Revolutionary War interpretation\n• Hands-on activities for all ages\n• Stories of Skippack’s role in the American Revolution\n• A chance to explore the historic Indenhofen Farmstead \nThis family-friendly event offers a unique opportunity to step back in time and learn how our local landscape shaped a pivotal moment in American history. \nCome for a short visit or spend the day—everyone is welcome. \n                   ***  hot dogs\, sodas\, apple cider\, and funnel cake for sale *** \nVolunteer: https://www.signupgenius.com/go/10C094BAFAA22ABF9C43-61386257-annual \n 
URL:https://www.skippack.org/event/washingtons-encampment/
CATEGORIES:Skippack Historical Society Events (SHS)
ATTACH;FMTTYPE=image/jpeg:https://www.skippack.org/wp-content/uploads/2026/09/555668287_1246661900837503_3854961827418355293_n.jpg
END:VEVENT
END:VCALENDAR