BEGIN:VCALENDAR
VERSION:2.0
PRODID:-//Skippack Historical Society - ECPv6.15.17//NONSGML v1.0//EN
CALSCALE:GREGORIAN
METHOD:PUBLISH
X-WR-CALNAME:Skippack Historical Society
X-ORIGINAL-URL:https://www.skippack.org
X-WR-CALDESC:Events for Skippack Historical Society
REFRESH-INTERVAL;VALUE=DURATION:PT1H
X-Robots-Tag:noindex
X-PUBLISHED-TTL:PT1H
BEGIN:VTIMEZONE
TZID:America/New_York
BEGIN:DAYLIGHT
TZOFFSETFROM:-0500
TZOFFSETTO:-0400
TZNAME:EDT
DTSTART:20240310T070000
END:DAYLIGHT
BEGIN:STANDARD
TZOFFSETFROM:-0400
TZOFFSETTO:-0500
TZNAME:EST
DTSTART:20241103T060000
END:STANDARD
BEGIN:DAYLIGHT
TZOFFSETFROM:-0500
TZOFFSETTO:-0400
TZNAME:EDT
DTSTART:20250309T070000
END:DAYLIGHT
BEGIN:STANDARD
TZOFFSETFROM:-0400
TZOFFSETTO:-0500
TZNAME:EST
DTSTART:20251102T060000
END:STANDARD
BEGIN:DAYLIGHT
TZOFFSETFROM:-0500
TZOFFSETTO:-0400
TZNAME:EDT
DTSTART:20260308T070000
END:DAYLIGHT
BEGIN:STANDARD
TZOFFSETFROM:-0400
TZOFFSETTO:-0500
TZNAME:EST
DTSTART:20261101T060000
END:STANDARD
END:VTIMEZONE
BEGIN:VEVENT
DTSTART;VALUE=DATE:20250222
DTEND;VALUE=DATE:20250223
DTSTAMP:20260419T125046
CREATED:20250403T182725Z
LAST-MODIFIED:20250411T172349Z
UID:8799-1740182400-1740268799@www.skippack.org
SUMMARY:Love Your Museum Tour
DESCRIPTION:Break up the final dregs of winter with a lively jaunt around the area’s historic sites! Join us for your self guided tour to 8 local historic sites. You may be familiar with these sites and perhaps pass by them regularly. Now is your chance to visit them and be amazed by their links to our local history! For your $10 per car pre-sale ticket or $12 per car ticket purchased on the day-of-the-tour\, you will receive one map per car and a souvenir brochure for each person. This event is sponsored by the “Best Practices” Consortium of Local Historic Organizations. \nLocation: Meetinghouse School \nPurchase a Ticket Here
URL:https://www.skippack.org/event/love-your-museum-tour/
CATEGORIES:Skippack Historical Society Events (SHS)
ATTACH;FMTTYPE=image/jpeg:https://www.skippack.org/wp-content/uploads/2025/04/meetinghouse_school.jpg
END:VEVENT
END:VCALENDAR